BEGIN:VCALENDAR
VERSION:2.0
PRODID:-//Sabre//Sabre VObject 4.5.8//EN
CALSCALE:GREGORIAN
BEGIN:VEVENT
UID:sabre-vobject-333a5c2b-5caf-446c-9fa9-269ddf4c3842
DTSTAMP:20260424T174157Z
SUMMARY:Rosenkranz / Betstunde\, gestaltet von Schönstatt
DESCRIPTION:https://www2.bistum-augsburg.de/gottesdienste/rosenkranz-betstu
 nde-gestaltet-von-schoenstatt_id1728628
DTSTART;TZID=Europe/Berlin:20260511T170000
DURATION:PT30M
LOCATION:Christkönig
END:VEVENT
END:VCALENDAR
