BEGIN:VCALENDAR
VERSION:2.0
PRODID:-//Sabre//Sabre VObject 4.5.8//EN
CALSCALE:GREGORIAN
BEGIN:VEVENT
UID:sabre-vobject-260fb5a5-d71f-467d-b7f0-da52bf4530b1
DTSTAMP:20260424T200617Z
SUMMARY:Taufe Samuel Peter Summerer
DESCRIPTION:https://www2.bistum-augsburg.de/gottesdienste/taufe-samuel-pete
 r-summerer_id1728633
DTSTART;TZID=Europe/Berlin:20260425T140000
DURATION:PT30M
LOCATION:Heilig Geist\, Griesweg 25a\, 86529 Schrobenhausen
END:VEVENT
END:VCALENDAR
