BEGIN:VCALENDAR
VERSION:2.0
PRODID:-//Sabre//Sabre VObject 4.5.8//EN
CALSCALE:GREGORIAN
BEGIN:VEVENT
UID:sabre-vobject-7b5fb378-8397-4690-bb11-ac592b9090ec
DTSTAMP:20260425T023543Z
SUMMARY:Heilige Messe bei der Heiligen Familie im Wald Richtung Kemnath
DESCRIPTION:https://www2.bistum-augsburg.de/gottesdienste/heilige-messe-bei
 -der-heiligen-familie-im-wald-richtung-kemnath_id1728661
DTSTART;TZID=Europe/Berlin:20260517T103000
DURATION:PT30M
LOCATION:Heilig Kreuz
END:VEVENT
END:VCALENDAR
