BEGIN:VCALENDAR
VERSION:2.0
PRODID:-//Sabre//Sabre VObject 4.5.8//EN
CALSCALE:GREGORIAN
BEGIN:VEVENT
UID:sabre-vobject-20c71f15-cc13-47d6-a853-15949011e030
DTSTAMP:20260423T155013Z
SUMMARY:Festgottesdienst zur Erstkommunion
DESCRIPTION:https://www2.bistum-augsburg.de/gottesdienste/festgottesdienst-
 zur-erstkommunion_id1728674
DTSTART;TZID=Europe/Berlin:20260426T103000
DURATION:PT30M
LOCATION:Basilica minor St. Alexander und Theodor
END:VEVENT
END:VCALENDAR
