BEGIN:VCALENDAR
VERSION:2.0
PRODID:-//Sabre//Sabre VObject 4.5.8//EN
CALSCALE:GREGORIAN
BEGIN:VEVENT
UID:sabre-vobject-28ba0622-5831-4d41-a044-641216a299c8
DTSTAMP:20260424T060756Z
SUMMARY:Maiandacht mit der Rheuma-Liga Aichach
DESCRIPTION:https://www2.bistum-augsburg.de/gottesdienste/maiandacht-mit-de
 r-rheuma-liga-aichach_id1728685
DTSTART;TZID=Europe/Berlin:20260508T150000
DURATION:PT30M
LOCATION:Wallfahrtskirchenstiftung Mariä Geburt
END:VEVENT
END:VCALENDAR
