BEGIN:VCALENDAR
VERSION:2.0
PRODID:-//Sabre//Sabre VObject 4.5.8//EN
CALSCALE:GREGORIAN
BEGIN:VEVENT
UID:sabre-vobject-aa232952-31b3-43df-8bcc-b5cb94651aab
DTSTAMP:20260423T035338Z
SUMMARY:Messfeier
DESCRIPTION:https://www2.bistum-augsburg.de/gottesdienste/messfeier_id17287
 02
DTSTART;TZID=Europe/Berlin:20260428T080000
DURATION:PT30M
LOCATION:Basilica minor St. Alexander und Theodor
END:VEVENT
END:VCALENDAR
