BEGIN:VCALENDAR
VERSION:2.0
PRODID:-//Sabre//Sabre VObject 4.5.8//EN
CALSCALE:GREGORIAN
BEGIN:VEVENT
UID:sabre-vobject-4d2b6929-a538-4e46-9a2a-97140d40c009
DTSTAMP:20260424T224420Z
SUMMARY:Hl. Messe
DESCRIPTION:https://www2.bistum-augsburg.de/gottesdienste/hl-messe_id172872
 8
DTSTART;TZID=Europe/Berlin:20260425T080000
DURATION:PT30M
LOCATION:St. Jakobus maj.\, Im Tal 10\, 86529 Schrobenhausen
END:VEVENT
END:VCALENDAR
