BEGIN:VCALENDAR
VERSION:2.0
PRODID:-//Sabre//Sabre VObject 4.5.8//EN
CALSCALE:GREGORIAN
BEGIN:VEVENT
UID:sabre-vobject-777471a7-15ee-48cc-aef4-c876a96e83b3
DTSTAMP:20260424T183430Z
SUMMARY:Taufe Pauline Marie Mair
DESCRIPTION:https://www2.bistum-augsburg.de/gottesdienste/taufe-pauline-mar
 ie-mair_id1728730
DTSTART;TZID=Europe/Berlin:20260425T140000
DURATION:PT30M
LOCATION:St. Jakobus maj.\, Im Tal 10\, 86529 Schrobenhausen
END:VEVENT
END:VCALENDAR
