BEGIN:VCALENDAR
VERSION:2.0
PRODID:-//Sabre//Sabre VObject 4.5.8//EN
CALSCALE:GREGORIAN
BEGIN:VEVENT
UID:sabre-vobject-d0e6b5ef-e4e7-4d88-8a51-971aaaa4dea0
DTSTAMP:20260423T124120Z
SUMMARY:Hl. Messe
DESCRIPTION:https://www2.bistum-augsburg.de/gottesdienste/hl-messe_id172874
 6
DTSTART;TZID=Europe/Berlin:20260426T083000
DURATION:PT30M
LOCATION:Wallfahrts-Kuratie St. Josef\, Wies 14\, 86989 Wies
END:VEVENT
END:VCALENDAR
