BEGIN:VCALENDAR
VERSION:2.0
PRODID:-//Sabre//Sabre VObject 4.5.8//EN
CALSCALE:GREGORIAN
BEGIN:VEVENT
UID:sabre-vobject-11b342a5-92d4-407c-b4e1-a70cfb2598c2
DTSTAMP:20260423T124217Z
SUMMARY:Hl. Messe mit Goldener Hochzeit\, musikal. Gestalt. Männerchor "Ge
 rmania" aus Sindlingen
DESCRIPTION:https://www2.bistum-augsburg.de/gottesdienste/hl-messe-mit-gold
 ener-hochzeit-musikal-gestalt-maennerchor-germania-aus-sindlingen_id172874
 7
DTSTART;TZID=Europe/Berlin:20260426T110000
DURATION:PT30M
LOCATION:Wallfahrts-Kuratie St. Josef\, Wies 14\, 86989 Wies
END:VEVENT
END:VCALENDAR
