BEGIN:VCALENDAR
VERSION:2.0
PRODID:-//Sabre//Sabre VObject 4.5.8//EN
CALSCALE:GREGORIAN
BEGIN:VEVENT
UID:sabre-vobject-9c6d32bf-e82d-4b18-9a4c-0c99f22e49cf
DTSTAMP:20260424T233719Z
SUMMARY:Rosenkranz
DESCRIPTION:https://www2.bistum-augsburg.de/gottesdienste/rosenkranz_id1728
 774
DTSTART;TZID=Europe/Berlin:20260517T091500
DURATION:PT30M
LOCATION:St. Martin
END:VEVENT
END:VCALENDAR
