BEGIN:VCALENDAR
VERSION:2.0
PRODID:-//Sabre//Sabre VObject 4.5.8//EN
CALSCALE:GREGORIAN
BEGIN:VEVENT
UID:sabre-vobject-1c2f23f2-8101-42ee-8d16-25be587ef986
DTSTAMP:20260424T015529Z
SUMMARY:"Komm zu Jesus" Stille Anbetung bis 23 Uhr
DESCRIPTION:https://www2.bistum-augsburg.de/gottesdienste/komm-zu-jesus-sti
 lle-anbetung-bis-23-uhr_id1728782
DTSTART;TZID=Europe/Berlin:20260430T150000
DURATION:PT30M
LOCATION:Basilica minor St. Alexander und Theodor
END:VEVENT
END:VCALENDAR
