BEGIN:VCALENDAR
VERSION:2.0
PRODID:-//Sabre//Sabre VObject 4.5.8//EN
CALSCALE:GREGORIAN
BEGIN:VEVENT
UID:sabre-vobject-faed560a-ea1f-418d-82c8-364502f7f2da
DTSTAMP:20260425T103249Z
SUMMARY:Heilige Messe
DESCRIPTION:https://www2.bistum-augsburg.de/gottesdienste/heilige-messe_id1
 728796
DTSTART;TZID=Europe/Berlin:20260503T103000
DURATION:PT30M
LOCATION:St. Wenzeslaus\, Pfarrstraße 14\, 86561 Oberlauterbach
END:VEVENT
END:VCALENDAR
