BEGIN:VCALENDAR
VERSION:2.0
PRODID:-//Sabre//Sabre VObject 4.5.8//EN
CALSCALE:GREGORIAN
BEGIN:VEVENT
UID:sabre-vobject-b30d48bb-6f61-4c7c-a466-bedeab1a7b0e
DTSTAMP:20260424T121344Z
SUMMARY:Patrozinium zum Hl. Gregor
DESCRIPTION:https://www2.bistum-augsburg.de/gottesdienste/patrozinium-zum-h
 l-gregor_id1728800
DTSTART;TZID=Europe/Berlin:20260426T100000
DURATION:PT30M
LOCATION:St. Georg und Gregor
END:VEVENT
END:VCALENDAR
