BEGIN:VCALENDAR
VERSION:2.0
PRODID:-//Sabre//Sabre VObject 4.5.8//EN
CALSCALE:GREGORIAN
BEGIN:VEVENT
UID:sabre-vobject-1032b94d-4017-4d0a-8bc9-e160e4aee475
DTSTAMP:20260424T000133Z
SUMMARY:Krankenkommunion - bitte melden Sie sich im Pfarrbüro
DESCRIPTION:https://www2.bistum-augsburg.de/gottesdienste/krankenkommunion-
 bitte-melden-sie-sich-im-pfarrbuero_id1728804
DTSTART;TZID=Europe/Berlin:20260508T090000
DURATION:PT30M
LOCATION:Hlgst. Dreifaltigkeit
END:VEVENT
END:VCALENDAR
