BEGIN:VCALENDAR
VERSION:2.0
PRODID:-//Sabre//Sabre VObject 4.5.8//EN
CALSCALE:GREGORIAN
BEGIN:VEVENT
UID:sabre-vobject-415e8723-664f-42c0-b0f8-ad8ffb2664fd
DTSTAMP:20260425T021555Z
SUMMARY:Dekanatsmaiandacht in Pfaffenhofen
DESCRIPTION:https://www2.bistum-augsburg.de/gottesdienste/dekanatsmaiandach
 t-in-pfaffenhofen_id1728810
DTSTART;TZID=Europe/Berlin:20260510T173000
DURATION:PT30M
LOCATION:Hlgst. Dreifaltigkeit
END:VEVENT
END:VCALENDAR
