BEGIN:VCALENDAR
VERSION:2.0
PRODID:-//Sabre//Sabre VObject 4.5.8//EN
CALSCALE:GREGORIAN
BEGIN:VEVENT
UID:sabre-vobject-2d79d04f-e85b-4e14-92dc-396e08346a5b
DTSTAMP:20260424T154308Z
SUMMARY:Hochfest zum PATROZINIUM zur Hlgst. Dreifaltigkeit\, anschl. Fronle
 ichnamsprozession
DESCRIPTION:https://www2.bistum-augsburg.de/gottesdienste/hochfest-zum-patr
 ozinium-zur-hlgst-dreifaltigkeit-anschl-fronleichnamsprozession_id1728825
DTSTART;TZID=Europe/Berlin:20260531T100000
DURATION:PT30M
LOCATION:Hlgst. Dreifaltigkeit
END:VEVENT
END:VCALENDAR
