BEGIN:VCALENDAR
VERSION:2.0
PRODID:-//Sabre//Sabre VObject 4.5.8//EN
CALSCALE:GREGORIAN
BEGIN:VEVENT
UID:sabre-vobject-f134b28c-3ba0-4d99-82db-ce1922ce0f01
DTSTAMP:20260424T234901Z
SUMMARY:Floriansmesse mit der Freiwilligen Feuerwehr Aresing\, anschl. Segn
 ung des neuen Feuerwehrautos
DESCRIPTION:https://www2.bistum-augsburg.de/gottesdienste/floriansmesse-mit
 -der-freiwilligen-feuerwehr-aresing-anschl-segnung-des-neuen-feuerwehrauto
 s_id1728839
DTSTART;TZID=Europe/Berlin:20260509T183000
DURATION:PT30M
LOCATION:St. Martin\, St.-Martin-Straße 15\, 86561 Aresing
END:VEVENT
END:VCALENDAR
