BEGIN:VCALENDAR
VERSION:2.0
PRODID:-//Sabre//Sabre VObject 4.5.8//EN
CALSCALE:GREGORIAN
BEGIN:VEVENT
UID:sabre-vobject-5cf92b9b-df07-462c-82f2-322ba012794d
DTSTAMP:20260422T163625Z
SUMMARY:Hl. Amt\, anschl. kurze  Maiandacht\, es singt der Kirchenchor
DESCRIPTION:https://www2.bistum-augsburg.de/gottesdienste/hl-amt-anschl-kur
 ze-maiandacht-es-singt-der-kirchenchor_id1728844
DTSTART;TZID=Europe/Berlin:20260501T190000
DURATION:PT30M
LOCATION:Mariä Himmelfahrt\, Schlottergasse 2\, 87758 Kronburg-Illerbeuren
END:VEVENT
END:VCALENDAR
