BEGIN:VCALENDAR
VERSION:2.0
PRODID:-//Sabre//Sabre VObject 4.5.8//EN
CALSCALE:GREGORIAN
BEGIN:VEVENT
UID:sabre-vobject-ce8b0556-7967-4d72-aa9e-a4be0af94316
DTSTAMP:20260424T014438Z
SUMMARY:Pfarrgottesdienst für die Lebenden und Verstorbenen der Pfarreieng
 emeinschaft
DESCRIPTION:https://www2.bistum-augsburg.de/gottesdienste/pfarrgottesdienst
 -fuer-die-lebenden-und-verstorbenen-der-pfarreiengemeinschaft_id1728846
DTSTART;TZID=Europe/Berlin:20260426T101500
DURATION:PT30M
LOCATION:St. Jakobus maj.\, Im Tal 10\, 86529 Schrobenhausen
END:VEVENT
END:VCALENDAR
