BEGIN:VCALENDAR
VERSION:2.0
PRODID:-//Sabre//Sabre VObject 4.5.8//EN
CALSCALE:GREGORIAN
BEGIN:VEVENT
UID:sabre-vobject-8150c094-db8a-4751-a53f-ad6608761b4e
DTSTAMP:20260424T043105Z
SUMMARY:Probe zur Erstkommunion in der Kirche
DESCRIPTION:https://www2.bistum-augsburg.de/gottesdienste/probe-zur-erstkom
 munion-in-der-kirche_id1728872
DTSTART;TZID=Europe/Berlin:20260425T100000
DURATION:PT30M
LOCATION:St. Valentin
END:VEVENT
END:VCALENDAR
