BEGIN:VCALENDAR
VERSION:2.0
PRODID:-//Sabre//Sabre VObject 4.5.8//EN
CALSCALE:GREGORIAN
BEGIN:VEVENT
UID:sabre-vobject-7f299558-d3c8-4be2-b6bf-7882a48de996
DTSTAMP:20260424T183353Z
SUMMARY:Heilige Messe - Maria\, Mutter der Kirche - mit den Wallfahrern aus
  Schiltberg
DESCRIPTION:https://www2.bistum-augsburg.de/gottesdienste/heilige-messe-mar
 ia-mutter-der-kirche-mit-den-wallfahrern-aus-schiltberg_id1728875
DTSTART;TZID=Europe/Berlin:20260525T090000
DURATION:PT30M
LOCATION:Wallfahrtskirchenstiftung Mariä Geburt
END:VEVENT
END:VCALENDAR
