BEGIN:VCALENDAR
VERSION:2.0
PRODID:-//Sabre//Sabre VObject 4.5.8//EN
CALSCALE:GREGORIAN
BEGIN:VEVENT
UID:sabre-vobject-538eff32-17d0-4f9e-b7f1-478011d5aed6
DTSTAMP:20260425T153032Z
SUMMARY:Ewige Anbetung
DESCRIPTION:https://www2.bistum-augsburg.de/gottesdienste/ewige-anbetung_id
 1728904
DTSTART;TZID=Europe/Berlin:20260514T080000
DURATION:PT30M
LOCATION:St. Johannes Baptist
END:VEVENT
END:VCALENDAR
