BEGIN:VCALENDAR
VERSION:2.0
PRODID:-//Sabre//Sabre VObject 4.5.8//EN
CALSCALE:GREGORIAN
BEGIN:VEVENT
UID:sabre-vobject-ee11f1d6-f548-4c9c-8bca-67089ed9b48f
DTSTAMP:20260425T135035Z
SUMMARY:Krankenkommunion
DESCRIPTION:https://www2.bistum-augsburg.de/gottesdienste/krankenkommunion_
 id1728945
DTSTART;TZID=Europe/Berlin:20260508T000000
DURATION:PT30M
LOCATION:St. Ludwig
END:VEVENT
END:VCALENDAR
