BEGIN:VCALENDAR
VERSION:2.0
PRODID:-//Sabre//Sabre VObject 4.5.8//EN
CALSCALE:GREGORIAN
BEGIN:VEVENT
UID:sabre-vobject-04e61ec2-3466-460a-8c10-3d36181422dd
DTSTAMP:20260425T105727Z
SUMMARY:Maiandacht im Seniorenheim
DESCRIPTION:https://www2.bistum-augsburg.de/gottesdienste/maiandacht-im-sen
 iorenheim_id1728946
DTSTART;TZID=Europe/Berlin:20260508T160000
DURATION:PT30M
LOCATION:St. Ludwig
END:VEVENT
END:VCALENDAR
