BEGIN:VCALENDAR
VERSION:2.0
PRODID:-//Sabre//Sabre VObject 4.5.8//EN
CALSCALE:GREGORIAN
BEGIN:VEVENT
UID:sabre-vobject-aa558df0-5da1-4e70-b299-3c0ab1b949eb
DTSTAMP:20260425T234035Z
SUMMARY:Taufe Nayla Offensperger
DESCRIPTION:https://www2.bistum-augsburg.de/gottesdienste/taufe-nayla-offen
 sperger_id1728949
DTSTART;TZID=Europe/Berlin:20260509T160000
DURATION:PT30M
LOCATION:St. Ludwig
END:VEVENT
END:VCALENDAR
