BEGIN:VCALENDAR
VERSION:2.0
PRODID:-//Sabre//Sabre VObject 4.5.8//EN
CALSCALE:GREGORIAN
BEGIN:VEVENT
UID:sabre-vobject-f28d998e-0b0d-43b6-8f22-2f54cde03619
DTSTAMP:20260425T170803Z
SUMMARY:Maiandacht mit Hochw. Abt Markus Eller\, Kloster Scheyern\, mit dem
  Kirchenchor Weilach (mit den Erstkommunionkindern aus Singenbach\, Klenau
  und Junkenhofen)
DESCRIPTION:https://www2.bistum-augsburg.de/gottesdienste/maiandacht-mit-ho
 chw-abt-markus-eller-kloster-scheyern-mit-dem-kirchenchor-weilach-mit-den-
 erstkommunionkindern-aus-singenbach-klenau-und-junkenhofen_id1728961
DTSTART;TZID=Europe/Berlin:20260510T143000
DURATION:PT30M
LOCATION:Wallfahrtskirchenstiftung Mariä Geburt
END:VEVENT
END:VCALENDAR
