BEGIN:VCALENDAR
VERSION:2.0
PRODID:-//Sabre//Sabre VObject 4.5.8//EN
CALSCALE:GREGORIAN
BEGIN:VEVENT
UID:sabre-vobject-7562cc62-63e8-430d-a97d-cd39137e7e72
DTSTAMP:20260422T230331Z
SUMMARY:Erstkommunion - Gruppe I
DESCRIPTION:https://www2.bistum-augsburg.de/gottesdienste/erstkommunion-gru
 ppe-i_id1728968
DTSTART;TZID=Europe/Berlin:20260503T090000
DURATION:PT30M
LOCATION:Basilika minor St. Lorenz\, Hildegardpl.\, 87439 Kempten (Allgäu)
END:VEVENT
END:VCALENDAR
