BEGIN:VCALENDAR
VERSION:2.0
PRODID:-//Sabre//Sabre VObject 4.5.8//EN
CALSCALE:GREGORIAN
BEGIN:VEVENT
UID:sabre-vobject-43690417-672c-4ac8-b3f6-3eac5489ebc7
DTSTAMP:20260425T040539Z
SUMMARY:Salve Regina und Rosenkranz
DESCRIPTION:https://www2.bistum-augsburg.de/gottesdienste/salve-regina-und-
 rosenkranz_id1728971
DTSTART;TZID=Europe/Berlin:20260428T083000
DURATION:PT30M
LOCATION:Mariä Schmerzen u. St. Ulrich\, Kirchhof 4\, 87764 Maria Steinbac
 h
END:VEVENT
END:VCALENDAR
