BEGIN:VCALENDAR
VERSION:2.0
PRODID:-//Sabre//Sabre VObject 4.5.8//EN
CALSCALE:GREGORIAN
BEGIN:VEVENT
UID:sabre-vobject-fa0b18a7-7f86-4185-8b76-a9f0322155a2
DTSTAMP:20260424T160605Z
SUMMARY:Hl. Messe - anschl. Rosenkranz
DESCRIPTION:https://www2.bistum-augsburg.de/gottesdienste/hl-messe-anschl-r
 osenkranz_id1729007
DTSTART;TZID=Europe/Berlin:20260425T080000
DURATION:PT30M
LOCATION:St. Gordian und Epimach
END:VEVENT
END:VCALENDAR
