BEGIN:VCALENDAR
VERSION:2.0
PRODID:-//Sabre//Sabre VObject 4.5.8//EN
CALSCALE:GREGORIAN
BEGIN:VEVENT
UID:sabre-vobject-84dcc7df-74d3-4b6a-a9ae-f41c5417b003
DTSTAMP:20260424T074943Z
SUMMARY:Seniorenheim: Gottesdienst
DESCRIPTION:https://www2.bistum-augsburg.de/gottesdienste/seniorenheim-gott
 esdienst_id1729018
DTSTART;TZID=Europe/Berlin:20260429T093000
DURATION:PT30M
LOCATION:St. Gordian und Epimach
END:VEVENT
END:VCALENDAR
