BEGIN:VCALENDAR
VERSION:2.0
PRODID:-//Sabre//Sabre VObject 4.5.8//EN
CALSCALE:GREGORIAN
BEGIN:VEVENT
UID:sabre-vobject-25930e94-2fd9-4b1f-b2af-6b3e278a0ecd
DTSTAMP:20260423T223631Z
SUMMARY:Gottesdienst der Kath. Afrikanischen Gemeinde Augsburg zu Christi H
 immelfahrt in deutscher/englischer/französischer  Sprache in St. Wolfhard
  im Thaddäus-Zentrum
DESCRIPTION:https://www2.bistum-augsburg.de/gottesdienste/gottesdienst-der-
 kath-afrikanischen-gemeinde-augsburg-zu-christi-himmelfahrt-in-deutscher-e
 nglischer-franzoesischer-sprache-in-st-wolfhard-im-thaddaeus-zentrum_id172
 9029
DTSTART;TZID=Europe/Berlin:20260514T140000
DURATION:PT30M
LOCATION:St. Thaddäus\, Ulmer Str. 63\, 86156 Augsburg-Kriegshaber
END:VEVENT
END:VCALENDAR
