BEGIN:VCALENDAR
VERSION:2.0
PRODID:-//Sabre//Sabre VObject 4.5.8//EN
CALSCALE:GREGORIAN
BEGIN:VEVENT
UID:sabre-vobject-9226b640-8174-41d9-b6db-51da4c459e1c
DTSTAMP:20260424T043256Z
SUMMARY:Probe Erstkommunion
DESCRIPTION:https://www2.bistum-augsburg.de/gottesdienste/probe-erstkommuni
 on_id1729046
DTSTART;TZID=Europe/Berlin:20260425T103000
DURATION:PT30M
LOCATION:St. Maria und Florian
END:VEVENT
END:VCALENDAR
