BEGIN:VCALENDAR
VERSION:2.0
PRODID:-//Sabre//Sabre VObject 4.5.8//EN
CALSCALE:GREGORIAN
BEGIN:VEVENT
UID:sabre-vobject-704ce2e5-44b7-413b-b905-1aa8bed71788
DTSTAMP:20260424T233809Z
SUMMARY:Hl. Messe fällt aus !
DESCRIPTION:https://www2.bistum-augsburg.de/gottesdienste/hl-messe-faellt-a
 us_id1729049
DTSTART;TZID=Europe/Berlin:20260430T183000
DURATION:PT30M
LOCATION:St. Maria und Florian
END:VEVENT
END:VCALENDAR
