BEGIN:VCALENDAR
VERSION:2.0
PRODID:-//Sabre//Sabre VObject 4.5.8//EN
CALSCALE:GREGORIAN
BEGIN:VEVENT
UID:sabre-vobject-46e4447f-1579-4803-99c7-8102af4e6a00
DTSTAMP:20260424T070558Z
SUMMARY:Maiandacht
DESCRIPTION:https://www2.bistum-augsburg.de/gottesdienste/maiandacht_id1729
 050
DTSTART;TZID=Europe/Berlin:20260518T183000
DURATION:PT30M
LOCATION:St. Blasius
END:VEVENT
END:VCALENDAR
