BEGIN:VCALENDAR
VERSION:2.0
PRODID:-//Sabre//Sabre VObject 4.5.8//EN
CALSCALE:GREGORIAN
BEGIN:VEVENT
UID:sabre-vobject-a14351a0-de11-45d7-a32e-60836fe6d1e9
DTSTAMP:20260425T112306Z
SUMMARY:Heilige Messe
DESCRIPTION:https://www2.bistum-augsburg.de/gottesdienste/heilige-messe_id1
 729051
DTSTART;TZID=Europe/Berlin:20260518T190000
DURATION:PT30M
LOCATION:St. Blasius
END:VEVENT
END:VCALENDAR
