BEGIN:VCALENDAR
VERSION:2.0
PRODID:-//Sabre//Sabre VObject 4.5.8//EN
CALSCALE:GREGORIAN
BEGIN:VEVENT
UID:sabre-vobject-cf8294f4-6212-43bc-9a02-a94f81ee9670
DTSTAMP:20260424T123612Z
SUMMARY:Friedensgebet an der Kirche
DESCRIPTION:https://www2.bistum-augsburg.de/gottesdienste/friedensgebet-an-
 der-kirche_id1729067
DTSTART;TZID=Europe/Berlin:20260506T183000
DURATION:PT30M
LOCATION:St. Johannes Baptist
END:VEVENT
END:VCALENDAR
