BEGIN:VCALENDAR
VERSION:2.0
PRODID:-//Sabre//Sabre VObject 4.5.8//EN
CALSCALE:GREGORIAN
BEGIN:VEVENT
UID:sabre-vobject-a7e904d0-79e3-4f93-80b1-3f6f2f6c025a
DTSTAMP:20260423T060654Z
SUMMARY:Wallfahrermesse
DESCRIPTION:https://www2.bistum-augsburg.de/gottesdienste/wallfahrermesse_i
 d1729082
DTSTART;TZID=Europe/Berlin:20260426T113000
DURATION:PT30M
LOCATION:Mariä Schmerzen u. St. Ulrich\, Kirchhof 4\, 87764 Maria Steinbac
 h
END:VEVENT
END:VCALENDAR
