BEGIN:VCALENDAR
VERSION:2.0
PRODID:-//Sabre//Sabre VObject 4.5.8//EN
CALSCALE:GREGORIAN
BEGIN:VEVENT
UID:sabre-vobject-58d0ecaf-f38b-4b60-985c-fcf04c17b512
DTSTAMP:20260426T010616Z
SUMMARY:Zeltgottesdienst zum Feuerwehr Jubiläum
DESCRIPTION:https://www2.bistum-augsburg.de/gottesdienste/zeltgottesdienst-
 zum-feuerwehr-jubilaeum_id1729138
DTSTART;TZID=Europe/Berlin:20260510T100000
DURATION:PT30M
LOCATION:St. Vitus
END:VEVENT
END:VCALENDAR
