BEGIN:VCALENDAR
VERSION:2.0
PRODID:-//Sabre//Sabre VObject 4.5.8//EN
CALSCALE:GREGORIAN
BEGIN:VEVENT
UID:sabre-vobject-27bc1b77-1322-4cf8-9b08-78e7ecc9869e
DTSTAMP:20260425T152954Z
SUMMARY:Bittgang zum "Weißen Kreuz" anschl. VAM - Abmarsch 19:00h (bei sch
 lechter Witterung VAM in Hl. Kreuz Kapelle)
DESCRIPTION:https://www2.bistum-augsburg.de/gottesdienste/bittgang-zum-weis
 sen-kreuz-anschl-vam-abmarsch-19-00h-bei-schlechter-witterung-vam-in-hl-kr
 euz-kapelle_id1729152
DTSTART;TZID=Europe/Berlin:20260513T193000
DURATION:PT30M
LOCATION:Mariä Himmelfahrt
END:VEVENT
END:VCALENDAR
