BEGIN:VCALENDAR
VERSION:2.0
PRODID:-//Sabre//Sabre VObject 4.5.8//EN
CALSCALE:GREGORIAN
BEGIN:VEVENT
UID:sabre-vobject-66cbadb8-7eef-41f9-b257-8ce8b8e8f1a2
DTSTAMP:20260424T192351Z
SUMMARY:Ökumenischer Bibelkreis m. Pfr. Paul (Pfarrhof)
DESCRIPTION:https://www2.bistum-augsburg.de/gottesdienste/oekumenischer-bib
 elkreis-m-pfr-paul-pfarrhof_id1729153
DTSTART;TZID=Europe/Berlin:20260519T200000
DURATION:PT30M
LOCATION:Mariä Himmelfahrt
END:VEVENT
END:VCALENDAR
