BEGIN:VCALENDAR
VERSION:2.0
PRODID:-//Sabre//Sabre VObject 4.5.8//EN
CALSCALE:GREGORIAN
BEGIN:VEVENT
UID:sabre-vobject-e22d0402-d3c2-41de-a2ec-4ed382c68b00
DTSTAMP:20260422T211828Z
SUMMARY:Maiandacht an der Grotte (Frauengruppe -  anschl. Kaffee u. Kuchen 
 im Pfarrhof)
DESCRIPTION:https://www2.bistum-augsburg.de/gottesdienste/maiandacht-an-der
 -grotte-frauengruppe-anschl-kaffee-u-kuchen-im-pfarrhof_id1729171
DTSTART;TZID=Europe/Berlin:20260503T140000
DURATION:PT30M
LOCATION:Mariä Himmelfahrt
END:VEVENT
END:VCALENDAR
