BEGIN:VCALENDAR
VERSION:2.0
PRODID:-//Sabre//Sabre VObject 4.5.8//EN
CALSCALE:GREGORIAN
BEGIN:VEVENT
UID:sabre-vobject-31f5f708-45e5-4172-832a-d8e95b26dfd8
DTSTAMP:20260424T121415Z
SUMMARY:Patroziniumsfeier - für die Verstorbenen der Pfarrgemeinde
DESCRIPTION:https://www2.bistum-augsburg.de/gottesdienste/patroziniumsfeier
 -fuer-die-verstorbenen-der-pfarrgemeinde_id1729173
DTSTART;TZID=Europe/Berlin:20260501T100000
DURATION:PT30M
LOCATION:Mariä Himmelfahrt
END:VEVENT
END:VCALENDAR
