BEGIN:VCALENDAR
VERSION:2.0
PRODID:-//Sabre//Sabre VObject 4.5.8//EN
CALSCALE:GREGORIAN
BEGIN:VEVENT
UID:sabre-vobject-a41154bf-a61b-4aef-abab-a70c7dab5242
DTSTAMP:20260423T224817Z
SUMMARY:Trauung des Brautpaares Paul & Maria Sedlmair\, geb. Lindermair
DESCRIPTION:https://www2.bistum-augsburg.de/gottesdienste/trauung-des-braut
 paares-paul-maria-sedlmair-geb-lindermair_id1729174
DTSTART;TZID=Europe/Berlin:20260501T130000
DURATION:PT30M
LOCATION:Mariä Himmelfahrt
END:VEVENT
END:VCALENDAR
