BEGIN:VCALENDAR
VERSION:2.0
PRODID:-//Sabre//Sabre VObject 4.5.8//EN
CALSCALE:GREGORIAN
BEGIN:VEVENT
UID:sabre-vobject-ad346023-2c25-461b-9bf3-4dd4ec55b0af
DTSTAMP:20260425T153131Z
SUMMARY:Hl. Messe in der Senioren-Wohngemeinschaft Happy Granny
DESCRIPTION:https://www2.bistum-augsburg.de/gottesdienste/hl-messe-in-der-s
 enioren-wohngemeinschaft-happy-granny_id1729203
DTSTART;TZID=Europe/Berlin:20260515T160000
DURATION:PT30M
LOCATION:St. Nikolaus
END:VEVENT
END:VCALENDAR
