BEGIN:VCALENDAR
VERSION:2.0
PRODID:-//Sabre//Sabre VObject 4.5.8//EN
CALSCALE:GREGORIAN
BEGIN:VEVENT
UID:sabre-vobject-b600b1a7-72ce-40d5-8ebe-9ab69d08dd54
DTSTAMP:20260424T090500Z
SUMMARY:Maiandacht mit eucharistischem Segen\, musik. gestaltet mit orgelPL
 USvioline
DESCRIPTION:https://www2.bistum-augsburg.de/gottesdienste/maiandacht-mit-eu
 charistischem-segen-musik-gestaltet-mit-orgelplusvioline_id1729222
DTSTART;TZID=Europe/Berlin:20260514T183000
DURATION:PT30M
LOCATION:Maria\, Hilfe der Christen
END:VEVENT
END:VCALENDAR
