BEGIN:VCALENDAR
VERSION:2.0
PRODID:-//Sabre//Sabre VObject 4.5.8//EN
CALSCALE:GREGORIAN
BEGIN:VEVENT
UID:sabre-vobject-28d76f7d-9ed8-4742-9164-f1d12f1df464
DTSTAMP:20260423T142416Z
SUMMARY:Krankenkommunion
DESCRIPTION:https://www2.bistum-augsburg.de/gottesdienste/krankenkommunion_
 id1729235
DTSTART;TZID=Europe/Berlin:20260429T090000
DURATION:PT30M
LOCATION:St. Nikolaus
END:VEVENT
END:VCALENDAR
