BEGIN:VCALENDAR
VERSION:2.0
PRODID:-//Sabre//Sabre VObject 4.5.8//EN
CALSCALE:GREGORIAN
BEGIN:VEVENT
UID:sabre-vobject-4031e1b8-d53e-4da8-8800-c607645780bf
DTSTAMP:20260423T152757Z
SUMMARY:Anbetung
DESCRIPTION:https://www2.bistum-augsburg.de/gottesdienste/anbetung_id172924
 0
DTSTART;TZID=Europe/Berlin:20260430T190000
DURATION:PT30M
LOCATION:St. Nikolaus
END:VEVENT
END:VCALENDAR
