BEGIN:VCALENDAR
VERSION:2.0
PRODID:-//Sabre//Sabre VObject 4.5.8//EN
CALSCALE:GREGORIAN
BEGIN:VEVENT
UID:sabre-vobject-6b4a15f8-365d-427d-b9c3-c5c909459601
DTSTAMP:20260423T180441Z
SUMMARY:Pfingstvigil mit Feuer & Flamme
DESCRIPTION:https://www2.bistum-augsburg.de/gottesdienste/pfingstvigil-mit-
 feuer-flamme_id1729278
DTSTART;TZID=Europe/Berlin:20260523T183000
DURATION:PT30M
LOCATION:St. Peter und Paul
END:VEVENT
END:VCALENDAR
