BEGIN:VCALENDAR
VERSION:2.0
PRODID:-//Sabre//Sabre VObject 4.5.8//EN
CALSCALE:GREGORIAN
BEGIN:VEVENT
UID:sabre-vobject-de30eb23-9154-4f84-93db-c212546a1f40
DTSTAMP:20260425T210145Z
SUMMARY:Festgottesdienst zu Pfingsten
DESCRIPTION:https://www2.bistum-augsburg.de/gottesdienste/festgottesdienst-
 zu-pfingsten_id1729279
DTSTART;TZID=Europe/Berlin:20260524T100000
DURATION:PT30M
LOCATION:St. Peter und Paul
END:VEVENT
END:VCALENDAR
